Workbook

Sheet Intro
B7: CA AppLogic® Application/Grid
B9: Sizing Calculator
B11: Date: 7/9/2013
B13: For a video guided tour on how to use this calculator, please visit the AppLogic Videos channel on | K13: YouTube

Sheet App Factors
I2: App Sizing needs to be addressed as a discussion with this sheet. | Q2: NOTE: "Total" is the active number for each app. "Large" and "Small" are just to help visulization and understanding.
E4: App A: | F4: CentOS VDS | M4: App B: | N4: LAMP Stack | U4: App C: | V4: Sugar CRM
F5: Small | G5: Medium | H5: Large | N5: Basic | O5: 2x LB | P5: 4x Autoscale | V5: 2x LB | W5: 4x LB | X5: 8x Autoscale
B6: Appliances | J6: Appliances | R6: Appliances
F7: small | G7: medium | H7: large | N7: small | O7: medium | P7: large | V7: small | W7: medium | X7: large
C8: Number of Appliances | F8: 1 | G8: 1 | H8: 1 | K8: Number of Appliances | N8: 5 | O8: 8 | P8: 11 | S8: Number of Appliances | V8: 11 | W8: 13 | X8: 18
B10: Processor | J10: Processor | R10: Processor
F11: small | G11: medium | H11: large | N11: small | O11: medium | P11: large | V11: small | W11: medium | X11: large
C12: Total CPU | F12: 0.25 | G12: 0.5 | H12: 1 | K12: Total CPU | N12: 1 | O12: 1.9 | P12: 3.9 | S12: Total CPU | V12: 2.15 | W12: 2.85 | X12: 4.05
C13: Large CPU | F13: =F12 -> 0.25 | G13: =G12 -> 0.5 | H13: =H12 -> 1 | K13: Large CPU | N13: 0.4 | O13: 0.5 | P13: 1 | S13: Large CPU | V13: 0.4 | W13: 0.5 | X13: 1
C14: Small CPU | F14: =F13 -> 0.25 | G14: =G13 -> 0.5 | H14: =H13 -> 1 | K14: Small CPU | N14: 0.05 | O14: 0.05 | P14: 0.05 | S14: Small CPU | V14: 0.05 | W14: 0.05 | X14: 0.05
B16: Memory | J16: Memory | R16: Memory
F17: small | G17: medium | H17: large | N17: small | O17: medium | P17: large | V17: small | W17: medium | X17: large
C18: Total RAM (MB) | F18: 256 | G18: 1024 | H18: 2048 | K18: Total RAM (MB) | N18: 1568 | O18: 3008 | P18: 5504 | S18: Total RAM (MB) | V18: 3008 | W18: 4544 | X18: 7936
C19: Large RAM | F19: =F18 -> 256 | G19: =G18 -> 1024 | H19: =H18 -> 2048 | K19: Large RAM | N19: 512 | O19: 1024 | P19: 2048 | S19: Large RAM | V19: 512 | W19: 1024 | X19: 2048
C20: Small RAM | F20: =F19 -> 256 | G20: =G19 -> 1024 | H20: =H19 -> 2048 | K20: Small RAM | N20: 96 | O20: 96 | P20: 96 | S20: Small RAM | V20: 96 | W20: 96 | X20: 96
B22: Storage | J22: Storage | R22: Storage
F23: small | G23: medium | H23: large | N23: small | O23: medium | P23: large | V23: small | W23: medium | X23: large
C24: Number of Volumes | F24: 1 | G24: 1 | H24: 1 | K24: Number of Volumes | N24: 10 | O24: 12 | P24: 18 | S24: Number of Volumes | V24: 18 | W24: 20 | X24: 27
C25: Total Storage (GB) | F25: 2 | G25: 10 | H25: 40 | K25: Total Storage (GB) | N25: 2.5 | O25: 6 | P25: 33 | S25: Total Storage (GB) | V25: 3.5 | W25: 5 | X25: 26
C26: Large Volume | F26: =F25 -> 2 | G26: =G25 -> 10 | H26: =H25 -> 40 | K26: Large Volume | N26: 0.5 | O26: 2 | P26: 20 | S26: Large Volume | V26: 1 | W26: 2 | X26: 20
C27: Small Volume | F27: =F26 -> 2 | G27: =G26 -> 10 | H27: =H26 -> 40 | K27: Small Volume | N27: 0.05 | O27: 0.05 | P27: 0.05 | S27: Small Volume | V27: 0.05 | W27: 0.05 | X27: 0.05
B29: Bandwidth | J29: Bandwidth | R29: Bandwidth
F30: small | G30: medium | H30: large | N30: small | O30: medium | P30: large | V30: small | W30: medium | X30: large
C31: # of Internal Connections | F31: Ignored | K31: # of Internal Connections | N31: Ignored | S31: # of Internal Connections | V31: Ignored
C32: Internal Bandwidth (Mbps) | F32: 1 | G32: 1 | H32: 1 | K32: Internal Bandwidth (Mbps) | N32: 1050 | O32: 1700 | P32: 1700 | S32: Internal Bandwidth (Mbps) | V32: 1550 | W32: 1750 | X32: 2150
C33: Large Bandwidth | F33: =F32 -> 1 | G33: =G32 -> 1 | H33: =H32 -> 1 | K33: Large Bandwidth | N33: 400 | O33: 400 | P33: 400 | S33: Large Bandwidth | V33: 400 | W33: 400 | X33: 800
C34: Small Bandwidth | F34: =F33 -> 1 | G34: =G33 -> 1 | H34: =H33 -> 1 | K34: Small Bandwidth | N34: 100 | O34: 50 | P34: 50 | S34: Small Bandwidth | V34: 50 | W34: 50 | X34: 50
C36: # of External connections | F36: Ignored | K36: # of External connections | N36: Ignored | S36: # of External connections | V36: Ignored
C37: External Bandwidth (Gbps) | F37: Ignored | G37: Ignored | H37: Ignored | K37: External Bandwidth (Gbps) | N37: Ignored | O37: Ignored | P37: Ignored | S37: External Bandwidth (Gbps) | V37: Ignored | W37: Ignored | X37: Ignored

Sheet Customer Factors
B6: Customer Mix | F6: App A | G6: App B | H6: App C
F7: ='App Factors'!F4 -> CentOS VDS | G7: ='App Factors'!N4 -> LAMP Stack | H7: ='App Factors'!V4 -> Sugar CRM
C8: Percentage Ordering Small | F8: 0 | G8: 0 | H8: 0
C9: Percentage Ordering Medium | F9: 0.5 | G9: 0.5 | H9: 0
C10: Percentage Ordering Large | F10: 0.2 | G10: 0 | H10: 0 | J10: Total Percentage: | K10: =F8+F9+F10+G8+G9+G10+H8+H9+H10 -> 1.2
J11: Note: Any total other than 100% will be normalized

Sheet Grid Factors
B6: Server Attributes | F6: Disclaimer: We advise against Frankengrids* as best practice
C7: Number of Sockets | F7: 2
C8: Processor Cores per Socket | F8: 6
C9: RAM (GB) | F9: 32 | J9: RAM in MB: | K9: =F9*1024 -> 32768
C10: Number of Disks | F10: 4
C11: Disk Size (GB) | F11: 500
C12: Oversubscription Factor | H12: Valid OverSub Factors: Blank, 2, 4, 8, 16
B14: Backbone Attributes
C16: Connection Bandwidth (Gbps) | F16: 1 | H16: Typical Values: 1 or 10
C17: NICs per Server | F17: 1 | H17: 2 for HA, 1 for Non-HA. This does not affect any calculations.
B19: SAN Attributes | E19: (leave blank if using DAS only)
C21: Capacity (GB)
C22: Connection Bandwidth (Gbps)
C25: Number of Servers per Grid | F25: 5
C29: AppLogic Version | F29: 3.7
C32: * Frankengrids are grids built with servers of mis-matched capacities

Sheet Outputs
I2: ESTIMATES ONLY!
I3: Disclaimer: Scheduling is complicated! | M3: This cell has a note on mouseover.
B6: System Capacity | I6: Based on Customer Mix Percentage
C8: =CONCATENATE("Number of ",'App Factors'!F4) -> Number of CentOS VDS | F8: =Calculations!N30 -> 0 | G8: Small | I8: =Calculations!O30 -> 4 | J8: Med | L8: =Calculations!P30 -> 1 | M8: Large
C9: =CONCATENATE("Number of ",'App Factors'!N4) -> Number of LAMP Stack | F9: =Calculations!Q30 -> 0 | G9: Small | I9: =Calculations!R30 -> 4 | J9: Med | L9: =Calculations!S30 -> 0 | M9: Large
C10: =CONCATENATE("Number of ",'App Factors'!V4) -> Number of Sugar CRM | F10: =Calculations!T30 -> 0 | G10: Small | I10: =Calculations!U30 -> 0 | J10: Med | L10: =Calculations!V30 -> 0 | M10: Large
C11: Number of Servers | F11: ='Grid Factors'!F25 -> 5
C12: Number of Licenses | F12: =F11*'Grid Factors'!F7 -> 10 | I12: Total Running Apps: | L12: =SUM(F8+F9+F10+I8+I9+I10+L8+L9+L10) -> 9
B15: Constraining Factors
C17: Application | E17: Primary | F17: =Calculations!E48 -> Bandwidth
E18: Seconday | F18: =Calculations!E49 -> CPU
C21: Grid Fabric | E21: Primary | F21: Unused
E22: Secondary | F22: Unused
B27: Total Resources
F28: Available | I28: In Use | L28: Saturation (at N+1) | N28: CPU Oversubscription
E29: CPU | F29: =Calculations!E23 -> 43 | G29: (Cores) | H29: CPU | I29: =Calculations!AK11 -> 10.6 | J29: (Cores) | K29: CPU | L29: =I29/F29 -> 0.24651163 | N29: =CONCATENATE(Calculations!E16,"x") -> 1x
E30: Memory | F30: =Calculations!E21 -> 128248 | G30: (MB) | H30: Memory | I30: =Calculations!AK12 -> 18176 | J30: (MB) | K30: Memory | L30: =I30/F30 -> 0.14172541
E31: Storage | F31: =Calculations!E25 -> 4921.5 | G31: (GB) | H31: Storage | I31: =Calculations!AK13 -> 104 | J31: (GB) | K31: Storage | L31: =I31/F31 -> 0.021131769
E32: BW | F32: =Calculations!E26 -> 8000 | G32: (Mb) | H32: BW | I32: =Calculations!AK15 -> 6805 | J32: (Mb) | K32: BW | L32: =I32/F32 -> 0.850625
L33: Red >90%, Blue <20%
B34: IOPS Calculations (DAS) | F34: =CONCATENATE("(Based on ", 'Grid Factors'!F10, " physical disks per server, and ", 'Grid Factors'!F25, " servers in the grid.)") -> (Based on 4 physical disks per server, and 5 servers in the grid.)
F35: Simple Read | G35: Simple Write | I35: Complex Array Read | K35: Complex Array Write
C36: 5400 rpm SATA | F36: =Calculations!H71 -> 400 | G36: =Calculations!I71 -> 200 | H36: =Calculations!J71 -> 0 | I36: =Calculations!M71 -> 1000 | K36: =Calculations!N71 -> 500
C37: 7200 rpm SATA | F37: =Calculations!H72 -> 600 | G37: =Calculations!I72 -> 300 | H37: =Calculations!J72 -> 0 | I37: =Calculations!M72 -> 1500 | K37: =Calculations!N72 -> 750
C38: 10,000 rpm SAS | F38: =Calculations!H73 -> 1000 | G38: =Calculations!I73 -> 500 | H38: =Calculations!J73 -> 0 | I38: =Calculations!M73 -> 2500 | K38: =Calculations!N73 -> 1250
C39: 15,000 rpm SAS | F39: =Calculations!H74 -> 1400 | G39: =Calculations!I74 -> 700 | H39: =Calculations!J74 -> 0 | I39: =Calculations!M74 -> 3500 | K39: =Calculations!N74 -> 1750
C40: SSD | F40: =Calculations!H75 -> 48000 | G40: =Calculations!I75 -> 24000 | H40: =Calculations!J75 -> 0 | I40: =Calculations!M75 -> 120000 | K40: =Calculations!N75 -> 60000
D41: MB/s | E41: ???
B42: Warnings

Sheet AppLogic Factors
B6: DO NOT CHANGE ANYTHING ON THIS PAGE!
B8: Per Server Maximums | J8: 3.1 Specs | K8: 3.5 Specs | L8: 3.7 Specs
C10: VMs | F10: 100 | J10: 50 | K10: 50 | L10: 100
C11: Volume stream | F11: 500 | J11: 255 | K11: 255 | L11: 500
C12: Volume Mounts | F12: 250 | J12: 127 | K12: 127 | L12: 250
C13: Virtual connections | F13: Ignored
B15: Per Server Reservations
C17: CPU | F17: 1
C18: RAM (MB) | F18: 514
C19: Disk Space (GB) | F19: 5
C20: VMs | F20: 0
B22: Per AppLogic Instance Maximums
C24: Volumes | H24: CPU | K24: 1024
C25: Applications | F25: 1024 | H25: RAM (GB)
C26: Appliances | H26: Disk Space (GB)
C27: Connections | H27: # Volumes
C28: Max BW on 10Gb | H28: VMs
C30: Version: | F30: 3.7 | H30: 3.1, 3.5, 3.7, etc
B32: Per Grid Reservations
C34: CPU | F34: 1
C35: RAM (MB) | F35: 768
C36: Disk Space (GB) | F36: 66
C37: VMs | F37: 1

Sheet Calculations
B6: DO NOT CHANGE ANYTHING ON THIS PAGE!
N7: App A: | O7: ='App Factors'!F4 -> CentOS VDS | Q7: App B: | R7: ='App Factors'!N4 -> LAMP Stack | T7: App C: | U7: ='App Factors'!V4 -> Sugar CRM | Z7: Final Usage | AB7: App A: | AC7: ='App Factors'!F4 -> CentOS VDS | AE7: App B: | AF7: ='App Factors'!N4 -> LAMP Stack | AH7: App C: | AI7: ='App Factors'!V4 -> Sugar CRM
C9: Grid Factors | G9: AppLogic Factors | K9: App Factors (Sm, Med, Lg for A, B, C) | N9: Small A | O9: Medium A | P9: Large A | Q9: Small B | R9: Medium B | S9: Large B | T9: Small C | U9: Medium C | V9: Large C | W9: ROW | AB9: Small A | AC9: Medium A | AD9: Large A | AE9: Small B | AF9: Medium B | AG9: Large B | AH9: Small C | AI9: Medium C | AJ9: Large C | AK9: Totals
C10: # Servers | D10: SvPG | E10: ='Grid Factors'!F25 -> 5 | G10: Max VM / Server | H10: MVMPS | I10: ='AppLogic Factors'!F10 -> 100 | K10: Total VMs | L10: TVMSmA | M10: # of VMs | N10: ='App Factors'!F8 -> 1 | O10: ='App Factors'!G8 -> 1 | P10: ='App Factors'!H8 -> 1 | Q10: ='App Factors'!N8 -> 5 | R10: ='App Factors'!O8 -> 8 | S10: ='App Factors'!P8 -> 11 | T10: ='App Factors'!V8 -> 11 | U10: ='App Factors'!W8 -> 13 | V10: ='App Factors'!X8 -> 18 | W10: =ROW() -> 10 | Z10: # of VMs | AB10: =N10*N28 -> 0 | AC10: =O10*O28 -> 4 | AD10: =P10*P28 -> 1 | AE10: =Q10*Q28 -> 0 | AF10: =R10*R28 -> 32 | AG10: =S10*S28 -> 0 | AH10: =T10*T28 -> 0 | AI10: =U10*U28 -> 0 | AJ10: =V10*V28 -> 0 | AK10: =SUM(AB10:AJ10) -> 37
C11: # Sockets / Server | D11: SkPS | E11: ='Grid Factors'!F7 -> 2 | G11: Max Vol Mnt / Server | H11: MVolPS | I11: ='AppLogic Factors'!F12 -> 250 | K11: Total CPU | L11: TCSMdB | M11: CPU | N11: ='App Factors'!F12 -> 0.25 | O11: ='App Factors'!G12 -> 0.5 | P11: ='App Factors'!H12 -> 1 | Q11: ='App Factors'!N12 -> 1 | R11: ='App Factors'!O12 -> 1.9 | S11: ='App Factors'!P12 -> 3.9 | T11: ='App Factors'!V12 -> 2.15 | U11: ='App Factors'!W12 -> 2.85 | V11: ='App Factors'!X12 -> 4.05 | W11: =ROW() -> 11 | Z11: CPU | AB11: =N11*N28 -> 0 | AC11: =O11*O28 -> 2 | AD11: =P11*P28 -> 1 | AE11: =Q11*Q28 -> 0 | AF11: =R11*R28 -> 7.6 | AG11: =S11*S28 -> 0 | AH11: =T11*T28 -> 0 | AI11: =U11*U28 -> 0 | AJ11: =V11*V28 -> 0 | AK11: =SUM(AB11:AJ11) -> 10.6
C12: # Cores / Socket | D12: CPS | E12: ='Grid Factors'!F8 -> 6 | G12: Max Net Conn / Server | H12: MConPS | I12: Ignored | K12: Smallest CPU | L12: SmCLgC | N12: ='App Factors'!F14 -> 0.25 | O12: ='App Factors'!G14 -> 0.5 | P12: ='App Factors'!H14 -> 1 | Q12: ='App Factors'!N14 -> 0.05 | R12: ='App Factors'!O14 -> 0.05 | S12: ='App Factors'!P14 -> 0.05 | T12: ='App Factors'!V14 -> 0.05 | U12: ='App Factors'!W14 -> 0.05 | V12: ='App Factors'!X14 -> 0.05 | W12: =ROW() -> 12 | Z12: RAM | AB12: =N14*N28 -> 0 | AC12: =O14*O28 -> 4096 | AD12: =P14*P28 -> 2048 | AE12: =Q14*Q28 -> 0 | AF12: =R14*R28 -> 12032 | AG12: =S14*S28 -> 0 | AH12: =T14*T28 -> 0 | AI12: =U14*U28 -> 0 | AJ12: =V14*V28 -> 0 | AK12: =SUM(AB12:AJ12) -> 18176
C13: RAM / Server | D13: MPS | E13: ='Grid Factors'!K9 -> 32768 | G13: Max Mirrors / Server | H13: MMirPS | I13: ='AppLogic Factors'!F11 -> 500 | K13: Largest CPU | L13: LgCSmA | N13: ='App Factors'!F13 -> 0.25 | O13: ='App Factors'!G13 -> 0.5 | P13: ='App Factors'!H13 -> 1 | Q13: ='App Factors'!N13 -> 0.4 | R13: ='App Factors'!O13 -> 0.5 | S13: ='App Factors'!P13 -> 1 | T13: ='App Factors'!V13 -> 0.4 | U13: ='App Factors'!W13 -> 0.5 | V13: ='App Factors'!X13 -> 1 | W13: =ROW() -> 13 | Z13: Storage | AB13: =N17*N28 -> 0 | AC13: =O17*O28 -> 40 | AD13: =P17*P28 -> 40 | AE13: =Q17*Q28 -> 0 | AF13: =R17*R28 -> 24 | AG13: =S17*S28 -> 0 | AH13: =T17*T28 -> 0 | AI13: =U17*U28 -> 0 | AJ13: =V17*V28 -> 0 | AK13: =SUM(AB13:AJ13) -> 104
C14: # Disks | D14: DPS | E14: ='Grid Factors'!F10 -> 4 | G14: Consumed CPU / Server | H14: RCPS | I14: ='AppLogic Factors'!F17 -> 1 | K14: Total Mem (MB) | L14: TMSmA | M14: RAM | N14: ='App Factors'!F18 -> 256 | O14: ='App Factors'!G18 -> 1024 | P14: ='App Factors'!H18 -> 2048 | Q14: ='App Factors'!N18 -> 1568 | R14: ='App Factors'!O18 -> 3008 | S14: ='App Factors'!P18 -> 5504 | T14: ='App Factors'!V18 -> 3008 | U14: ='App Factors'!W18 -> 4544 | V14: ='App Factors'!X18 -> 7936 | W14: =ROW() -> 14 | Z14: # of Volumes | AB14: =N18*N28 -> 0 | AC14: =O18*O28 -> 4 | AD14: =P18*P28 -> 1 | AE14: =Q18*Q28 -> 0 | AF14: =R18*R28 -> 48 | AG14: =S18*S28 -> 0 | AH14: =T18*T28 -> 0 | AI14: =U18*U28 -> 0 | AJ14: =V18*V28 -> 0 | AK14: =SUM(AB14:AJ14) -> 53
C15: GB / Disk | D15: VPD | E15: ='Grid Factors'!F11 -> 500 | G15: Reserved Mem / Server | H15: RMPS | I15: ='AppLogic Factors'!F18 -> 514 | K15: Smallest Mem (MB) | L15: SmMSmA | N15: ='App Factors'!F20 -> 256 | O15: ='App Factors'!G20 -> 1024 | P15: ='App Factors'!H20 -> 2048 | Q15: ='App Factors'!N20 -> 96 | R15: ='App Factors'!O20 -> 96 | S15: ='App Factors'!P20 -> 96 | T15: ='App Factors'!V20 -> 96 | U15: ='App Factors'!W20 -> 96 | V15: ='App Factors'!X20 -> 96 | W15: =ROW() -> 15 | Z15: Bandwidth | AB15: =N21*N28 -> 0 | AC15: =O21*O28 -> 4 | AD15: =P21*P28 -> 1 | AE15: =Q21*Q28 -> 0 | AF15: =R21*R28 -> 6800 | AG15: =S21*S28 -> 0 | AH15: =T21*T28 -> 0 | AI15: =U21*U28 -> 0 | AJ15: =V21*V28 -> 0 | AK15: =SUM(AB15:AJ15) -> 6805
C16: Oversub? | D16: OSb | E16: =IF(ISBLANK('Grid Factors'!F12),1,'Grid Factors'!F12) -> 1 | G16: Consumed VMs / Server | H16: RVMPS | I16: ='AppLogic Factors'!F20 -> 0 | K16: Largest Mem (MB) | L16: LgMSmA | N16: ='App Factors'!F19 -> 256 | O16: ='App Factors'!G19 -> 1024 | P16: ='App Factors'!H19 -> 2048 | Q16: ='App Factors'!N19 -> 512 | R16: ='App Factors'!O19 -> 1024 | S16: ='App Factors'!P19 -> 2048 | T16: ='App Factors'!V19 -> 512 | U16: ='App Factors'!W19 -> 1024 | V16: ='App Factors'!X19 -> 2048 | W16: =ROW() -> 16
C17: 1Gb vs 10 Gb | D17: BWPS | E17: ='Grid Factors'!F16 -> 1 | G17: Consumed Storage / Server | H17: RVPS | I17: ='AppLogic Factors'!F19 -> 5 | K17: Total Storage (GB) | L17: TVSmA | M17: Storage | N17: ='App Factors'!F25 -> 2 | O17: ='App Factors'!G25 -> 10 | P17: ='App Factors'!H25 -> 40 | Q17: ='App Factors'!N25 -> 2.5 | R17: ='App Factors'!O25 -> 6 | S17: ='App Factors'!P25 -> 33 | T17: ='App Factors'!V25 -> 3.5 | U17: ='App Factors'!W25 -> 5 | V17: ='App Factors'!X25 -> 26 | W17: =ROW() -> 17
C18: SAN Capacity | D18: VPS | E18: ='Grid Factors'!F21 -> 0 | G18: Max Cores / Grid | H18: MCPG | I18: 1024 | K18: Total Volumes | L18: TVolSmA | M18: # of Volumes | N18: ='App Factors'!F24 -> 1 | O18: ='App Factors'!G24 -> 1 | P18: ='App Factors'!H24 -> 1 | Q18: ='App Factors'!N24 -> 10 | R18: ='App Factors'!O24 -> 12 | S18: ='App Factors'!P24 -> 18 | T18: ='App Factors'!V24 -> 18 | U18: ='App Factors'!W24 -> 20 | V18: ='App Factors'!X24 -> 27 | W18: =ROW() -> 18
G19: Max VMs / Grid | H19: MVMPG | I19: =(I10*128)-I26 -> 12799 | K19: Smallest Volume (GB) | L19: SmVolSmA | N19: ='App Factors'!F27 -> 2 | O19: ='App Factors'!G27 -> 10 | P19: ='App Factors'!H27 -> 40 | Q19: ='App Factors'!N27 -> 0.05 | R19: ='App Factors'!O27 -> 0.05 | S19: ='App Factors'!P27 -> 0.05 | T19: ='App Factors'!V27 -> 0.05 | U19: ='App Factors'!W27 -> 0.05 | V19: ='App Factors'!X27 -> 0.05 | W19: =ROW() -> 19
C20: Scheduleable Resources | G20: Max Vol Mnt / Grid | H20: MVolPG | I20: =128*I11 -> 32000 | K20: Largest Volume (GB) | L20: LgVolSmA | N20: ='App Factors'!F26 -> 2 | O20: ='App Factors'!G26 -> 10 | P20: ='App Factors'!H26 -> 40 | Q20: ='App Factors'!N26 -> 0.5 | R20: ='App Factors'!O26 -> 2 | S20: ='App Factors'!P26 -> 20 | T20: ='App Factors'!V26 -> 1 | U20: ='App Factors'!W26 -> 2 | V20: ='App Factors'!X26 -> 20 | W20: =ROW() -> 20
C21: Sched Mem | D21: SMPG | E21: =((E10-1)*(E13-I15))-I25 -> 128248 | G21: Max Net Conn / Grid | H21: MConPG | I21: Ignored | K21: Total BW | L21: TBWSmA | M21: Bandwidth | N21: ='App Factors'!F32 -> 1 | O21: ='App Factors'!G32 -> 1 | P21: ='App Factors'!H32 -> 1 | Q21: ='App Factors'!N32 -> 1050 | R21: ='App Factors'!O32 -> 1700 | S21: ='App Factors'!P32 -> 1700 | T21: ='App Factors'!V32 -> 1550 | U21: ='App Factors'!W32 -> 1750 | V21: ='App Factors'!X32 -> 2150 | W21: =ROW() -> 21
C22: Sched VMs | D22: SVMPG | E22: =MIN((((E10-1)*(I10-I16))-I26),I19) -> 399 | G22: Max Mirrors / Grid | H22: MMirPG | I22: =128*I13 -> 64000 | K22: Smallest BW | L22: SmBWSmA | N22: ='App Factors'!F34 -> 1 | O22: ='App Factors'!G34 -> 1 | P22: ='App Factors'!H34 -> 1 | Q22: ='App Factors'!N34 -> 100 | R22: ='App Factors'!O34 -> 50 | S22: ='App Factors'!P34 -> 50 | T22: ='App Factors'!V34 -> 50 | U22: ='App Factors'!W34 -> 50 | V22: ='App Factors'!X34 -> 50 | W22: =ROW() -> 22
C23: Sched CPU | D23: SCPG | E23: =MIN(((((E10-1)*((E11*E12)-I14))-I24)*E16),(I18*E16)) -> 43 | G23: Max Apps / Grid | H23: MAppPG | I23: ='AppLogic Factors'!F25 -> 1024 | K23: Largest BW | L23: LgBWSmA | N23: ='App Factors'!F33 -> 1 | O23: ='App Factors'!G33 -> 1 | P23: ='App Factors'!H33 -> 1 | Q23: ='App Factors'!N33 -> 400 | R23: ='App Factors'!O33 -> 400 | S23: ='App Factors'!P33 -> 400 | T23: ='App Factors'!V33 -> 400 | U23: ='App Factors'!W33 -> 400 | V23: ='App Factors'!X33 -> 800 | W23: =ROW() -> 23
C24: Sched Volumes | D24: SVolPG | E24: =MIN((((E10-1)*(I11-0))-I28),I20) -> 997 | G24: Addl CPU / Grid | H24: RCPG | I24: ='AppLogic Factors'!F34 -> 1 | K24: Total Connections | L24: TConSmA | N24: Ignored | O24: Ignored | P24: Ignored | Q24: Ignored | R24: Ignored | S24: Ignored | T24: Ignored | U24: Ignored | V24: Ignored | W24: =ROW() -> 24
C25: Sched Storage | D25: SVPG | E25: =(MAX((E10/2),1)*((E15*E14)-I17))-I27+E18 -> 4921.5 | G25: Addl Mem / Grid | H25: RMPG | I25: ='AppLogic Factors'!F35 -> 768
C26: Sched BW | D26: SBWPG | E26: =(E10-1)*E17*2000 -> 8000 | G26: Addl VMs / Grid | H26: RMVPG | I26: 1 | K26: Percentages | N26: ='Customer Factors'!F8 -> 0 | O26: ='Customer Factors'!F9 -> 0.5 | P26: ='Customer Factors'!F10 -> 0.2 | Q26: ='Customer Factors'!G8 -> 0 | R26: ='Customer Factors'!G9 -> 0.5 | S26: ='Customer Factors'!G10 -> 0 | T26: ='Customer Factors'!H8 -> 0 | U26: ='Customer Factors'!H9 -> 0 | V26: ='Customer Factors'!H10 -> 0 | X26: Total | Y26: =SUM(N26:V26) -> 1.2
C27: Sched Connections | D27: SConPG | E27: Ignored | G27: Addl Storage / Grid | H27: RVPG | I27: ='AppLogic Factors'!F36 -> 66 | K27: Normalized Percentages | N27: =N26/Y26 -> 0 | O27: =O26/Y26 -> 0.41666667 | P27: =P26/Y26 -> 0.16666667 | Q27: =Q26/Y26 -> 0 | R27: =R26/Y26 -> 0.41666667 | S27: =S26/Y26 -> 0 | T27: =T26/Y26 -> 0 | U27: =U26/Y26 -> 0 | V27: =V26/Y26 -> 0 | X27: Total | Y27: =SUM(N27:V27) -> 1
G28: Addl Volumes / Grid | H28: RVolPG | I28: 3 | K28: Final Count | N28: =N30 -> 0 | O28: =O30 -> 4 | P28: =P30 -> 1 | Q28: =Q30 -> 0 | R28: =R30 -> 4 | S28: =S30 -> 0 | T28: =T30 -> 0 | U28: =U30 -> 0 | V28: =V30 -> 0
L29: 1st Pass App Count | N29: =D48*N27 -> 0 | O29: =D48*O27 -> 4.7020101 | P29: =D48*P27 -> 1.880804 | Q29: =D48*Q27 -> 0 | R29: =D48*R27 -> 4.7020101 | S29: =D48*S27 -> 0 | T29: =D48*T27 -> 0 | U29: =D48*U27 -> 0 | V29: =D48*V27 -> 0
G30: Normalize, Truncate, Then Report the Spare | N30: =INT(N29) -> 0 | O30: =INT(O29) -> 4 | P30: =INT(P29) -> 1 | Q30: =INT(Q29) -> 0 | R30: =INT(R29) -> 4 | S30: =INT(S29) -> 0 | T30: =INT(T29) -> 0 | U30: =INT(U29) -> 0 | V30: =INT(V29) -> 0
C31: Customer Factors | D31: 3x3 Grid, total 100% | G31: SMPG = [(SvPG-1)*(MPS-RMPS) - RMPG] | L31: 1st Pass Resource Usage | X31: Totals | Y31: Leftover
C32: Percent Small Apps | D32: PSA,B,C | G32: SVMPG = MAX {[(SvPG-1)*(MVPS-RVMPS)-RVMPG] , MVMPG} | M32: #VMs | N32: =N10*N30 -> 0 | O32: =O10*O30 -> 4 | P32: =P10*P30 -> 1 | Q32: =Q10*Q30 -> 0 | R32: =R10*R30 -> 32 | S32: =S10*S30 -> 0 | T32: =T10*T30 -> 0 | U32: =U10*U30 -> 0 | V32: =V10*V30 -> 0 | W32: #VMs | X32: =SUM(N32:V32) -> 37 | Y32: =E22-X32 -> 362
C33: Percent Med Apps | D33: PMA,B,C | G33: SCPG = MAX {[(SvPG-1)*((SkPS*CPS)-RCPS) - RCPG] * Osb, MCPG * Osb} | M33: RAM | N33: =N14*N30 -> 0 | O33: =O14*O30 -> 4096 | P33: =P14*P30 -> 2048 | Q33: =Q14*Q30 -> 0 | R33: =R14*R30 -> 12032 | S33: =S14*S30 -> 0 | T33: =T14*T30 -> 0 | U33: =U14*U30 -> 0 | V33: =V14*V30 -> 0 | W33: RAM | X33: =SUM(N33:V33) -> 18176 | Y33: =E21-X33 -> 110072
C34: Percent Large Apps | D34: PLA,B,C | G34: SVolPG = MAX {[(SvPG-1)*(MVolPS-0)-RVolPG], MVolPG} | M34: CPU | N34: =N11*N30 -> 0 | O34: =O11*O30 -> 2 | P34: =P11*P30 -> 1 | Q34: =Q11*Q30 -> 0 | R34: =R11*R30 -> 7.6 | S34: =S11*S30 -> 0 | T34: =T11*T30 -> 0 | U34: =U11*U30 -> 0 | V34: =V11*V30 -> 0 | W34: CPU | X34: =SUM(N34:V34) -> 10.6 | Y34: =E23-X34 -> 32.4
G35: SVPG = <{[MIN (SvPG/2 , 1)] * [(VPD * DPS) - RVPS]} - RVPG> | M35: #Vols | N35: =N18*N30 -> 0 | O35: =O18*O30 -> 4 | P35: =P18*P30 -> 1 | Q35: =Q18*Q30 -> 0 | R35: =R18*R30 -> 48 | S35: =S18*S30 -> 0 | T35: =T18*T30 -> 0 | U35: =U18*U30 -> 0 | V35: =V18*V30 -> 0 | W35: #Vols | X35: =SUM(N35:V35) -> 53 | Y35: =E24-X35 -> 944
G36: SBWPG = [(SvPG-1) * BWPS] | M36: Storage | N36: =N17*N30 -> 0 | O36: =O17*O30 -> 40 | P36: =P17*P30 -> 40 | Q36: =Q17*Q30 -> 0 | R36: =R17*R30 -> 24 | S36: =S17*S30 -> 0 | T36: =T17*T30 -> 0 | U36: =U17*U30 -> 0 | V36: =V17*V30 -> 0 | W36: Storage | X36: =SUM(N36:V36) -> 104 | Y36: =E25-X36 -> 4817.5
C37: This is a 1st order normalized amount | G37: SConPG = ignore | M37: BW | N37: =N21*N30 -> 0 | O37: =O21*O30 -> 4 | P37: =P21*P30 -> 1 | Q37: =Q21*Q30 -> 0 | R37: =R21*R30 -> 6800 | S37: =S21*S30 -> 0 | T37: =T21*T30 -> 0 | U37: =U21*U30 -> 0 | V37: =V21*V30 -> 0 | W37: BW | X37: =SUM(N37:V37) -> 6805 | Y37: =E26-X37 -> 1195
C39: Requested amounts of resources | E39: # by Resource | G39: # Adjusted for Grid limits | H39: Label | K39: Based on Limiting Resource | L39: =E48 -> Bandwidth | M39: SMALL(INDIRECT(N40):INDIRECT(O40),9)
C40: RVM | D40: =(N10*N27)+(O10*O27)+(P10*P27)+(Q10*Q27)+(R10*R27)+(S10*S27)+(T10*T27)+(U10*U27)+(V10*V27) -> 3.9166667 | E40: =E22/D40 -> 101.87234 | G40: =MIN(I23,E40) -> 101.87234 | H40: # of VMs | K40: Add 1st Largest | L40: =VLOOKUP(L39,M10:W24,11,FALSE) -> 21 | M40: =SMALL(INDIRECT(N40):INDIRECT(O40),9) -> 2150 | N40: =ADDRESS(L40,14,1,1) -> $N$21 | O40: =ADDRESS(L40,22,1,1) -> $V$21
C41: RM | D41: =(N14*N27)+(O14*O27)+(P14*P27)+(Q14*Q27)+(R14*R27)+(S14*S27)+(T14*T27)+(U14*U27)+(V14*V27) -> 2021.3333 | E41: =E21/D41 -> 63.44723 | G41: =MIN(I23,E41) -> 63.44723 | H41: RAM | K41: Add 2nd Largest | L41: =L40 -> 21 | M41: =SMALL(INDIRECT(N41):INDIRECT(O41),8) -> 1750 | N41: =ADDRESS(L41,14,1,1) -> $N$21 | O41: =ADDRESS(L41,22,1,1) -> $V$21
C42: RC | D42: =(N11*N27)+(O11*O27)+(P11*P27)+(Q11*Q27)+(R11*R27)+(S11*S27)+(T11*T27)+(U11*U27)+(V11*V27) -> 1.1666667 | E42: =E23/D42 -> 36.857143 | G42: =MIN(I23,E42) -> 36.857143 | H42: CPU | K42: Add 3rd Largest | L42: =L41 -> 21 | M42: =SMALL(INDIRECT(N42):INDIRECT(O42),7) -> 1700 | N42: =ADDRESS(L42,14,1,1) -> $N$21 | O42: =ADDRESS(L42,22,1,1) -> $V$21
C43: Rvol | D43: =(N18*N27)+(O18*O27)+(P18*P27)+(Q18*Q27)+(R18*R27)+(S18*S27)+(T18*T27)+(U18*U27)+(V18*V27) -> 5.5833333 | E43: =E24/D43 -> 178.56716 | G43: =MIN(I23,E43) -> 178.56716 | H43: # of Volumes | K43: Add 4th Largest | L43: =L42 -> 21 | M43: =SMALL(INDIRECT(N43):INDIRECT(O43),6) -> 1700 | N43: =ADDRESS(L43,14,1,1) -> $N$21 | O43: =ADDRESS(L43,22,1,1) -> $V$21
C44: RV | D44: =(N17*N27)+(O17*O27)+(P17*P27)+(Q17*Q27)+(R17*R27)+(S17*S27)+(T17*T27)+(U17*U27)+(V17*V27) -> 13.333333 | E44: =E25/D44 -> 369.1125 | G44: =MIN(I23,E44) -> 369.1125 | H44: Storage | K44: Add 5th Largest | L44: =L43 -> 21 | M44: =SMALL(INDIRECT(N44):INDIRECT(O44),5) -> 1550 | N44: =ADDRESS(L44,14,1,1) -> $N$21 | O44: =ADDRESS(L44,22,1,1) -> $V$21
C45: RBW | D45: =(N21*N27)+(O21*O27)+(P21*P27)+(Q21*Q27)+(R21*R27)+(S21*S27)+(T21*T27)+(U21*U27)+(V21*V27) -> 708.91667 | E45: =E26/D45 -> 11.284824 | G45: =MIN(I23,E45) -> 11.284824 | H45: Bandwidth | K45: Add 6th Largest | L45: =L44 -> 21 | M45: =SMALL(INDIRECT(N45):INDIRECT(O45),4) -> 1050 | N45: =ADDRESS(L45,14,1,1) -> $N$21 | O45: =ADDRESS(L45,22,1,1) -> $V$21
C46: Rcon | D46: Ignored | K46: Add 7th Largest | L46: =L45 -> 21 | M46: =SMALL(INDIRECT(N46):INDIRECT(O46),3) -> 1 | N46: =ADDRESS(L46,14,1,1) -> $N$21 | O46: =ADDRESS(L46,22,1,1) -> $V$21
K47: Add 8th Largest | L47: =L46 -> 21 | M47: =SMALL(INDIRECT(N47):INDIRECT(O47),2) -> 1 | N47: =ADDRESS(L47,14,1,1) -> $N$21 | O47: =ADDRESS(L47,22,1,1) -> $V$21
...

Sheet Sample Apps
I2: App Sizing needs to be addressed before even getting to this sheet.
E4: App A: | F4: CentOS VDS | M4: App B: | N4: LAMP Stack | U4: App C: | V4: Sugar CRM
F5: Small | G5: Medium | H5: Large | N5: Basic | O5: 2x LB | P5: 4x Autoscale | V5: 2x LB | W5: 4x LB | X5: 8x Autoscale
B6: Appliances | J6: Appliances | R6: Appliances
F7: small | G7: medium | H7: large | N7: small | O7: medium | P7: large | V7: small | W7: medium | X7: large
C8: Number of Appliances | F8: 1 | G8: 1 | H8: 1 | K8: Number of Appliances | N8: 5 | O8: 8 | P8: 11 | S8: Number of Appliances | V8: 11 | W8: 13 | X8: 18
B10: Processor | J10: Processor | R10: Processor
F11: small | G11: medium | H11: large | N11: small | O11: medium | P11: large | V11: small | W11: medium | X11: large
C12: Total CPU | F12: 0.25 | G12: 0.5 | H12: 1 | K12: Total CPU | N12: 1 | O12: 1.9 | P12: 3.9 | S12: Total CPU | V12: 2.15 | W12: 2.85 | X12: 4.05
C13: Large CPU | F13: =F12 -> 0.25 | G13: =G12 -> 0.5 | H13: =H12 -> 1 | K13: Large CPU | N13: 0.4 | O13: 0.5 | P13: 1 | S13: Large CPU | V13: 0.4 | W13: 0.5 | X13: 1
C14: Small CPU | F14: =F13 -> 0.25 | G14: =G13 -> 0.5 | H14: =H13 -> 1 | K14: Small CPU | N14: 0.05 | O14: 0.05 | P14: 0.05 | S14: Small CPU | V14: 0.05 | W14: 0.05 | X14: 0.05
B16: Memory | J16: Memory | R16: Memory
F17: small | G17: medium | H17: large | N17: small | O17: medium | P17: large | V17: small | W17: medium | X17: large
C18: Total RAM (MB) | F18: 256 | G18: 1024 | H18: 2048 | K18: Total RAM (MB) | N18: 1568 | O18: 3008 | P18: 5504 | S18: Total RAM (MB) | V18: 3008 | W18: 4544 | X18: 7936
C19: Large RAM | F19: =F18 -> 256 | G19: =G18 -> 1024 | H19: =H18 -> 2048 | K19: Large RAM | N19: 512 | O19: 1024 | P19: 2048 | S19: Large RAM | V19: 512 | W19: 1024 | X19: 2048
C20: Small RAM | F20: =F19 -> 256 | G20: =G19 -> 1024 | H20: =H19 -> 2048 | K20: Small RAM | N20: 96 | O20: 96 | P20: 96 | S20: Small RAM | V20: 96 | W20: 96 | X20: 96
B22: Storage | J22: Storage | R22: Storage
F23: small | G23: medium | H23: large | N23: small | O23: medium | P23: large | V23: small | W23: medium | X23: large
C24: Number of Volumes | F24: 1 | G24: 1 | H24: 1 | K24: Number of Volumes | N24: 10 | O24: 12 | P24: 18 | S24: Number of Volumes | V24: 18 | W24: 20 | X24: 27
C25: Total Storage (GB) | F25: 2 | G25: 10 | H25: 40 | K25: Total Storage (GB) | N25: 2.5 | O25: 6 | P25: 33 | S25: Total Storage (GB) | V25: 3.5 | W25: 5 | X25: 26
C26: Large Volume | F26: =F25 -> 2 | G26: =G25 -> 10 | H26: =H25 -> 40 | K26: Large Volume | N26: 0.5 | O26: 2 | P26: 20 | S26: Large Volume | V26: 1 | W26: 2 | X26: 20
C27: Small Volume | F27: =F26 -> 2 | G27: =G26 -> 10 | H27: =H26 -> 40 | K27: Small Volume | N27: 0.05 | O27: 0.05 | P27: 0.05 | S27: Small Volume | V27: 0.05 | W27: 0.05 | X27: 0.05
B29: Bandwidth | J29: Bandwidth | R29: Bandwidth
F30: small | G30: medium | H30: large | N30: small | O30: medium | P30: large | V30: small | W30: medium | X30: large
C31: # of Internal Connections | F31: Ignored | K31: # of Internal Connections | N31: Ignored | S31: # of Internal Connections | V31: Ignored
C32: Internal Bandwidth (Mbps) | F32: 1 | G32: 1 | H32: 1 | K32: Internal Bandwidth (Mbps) | N32: 1050 | O32: 1700 | P32: 1700 | S32: Internal Bandwidth (Mbps) | V32: 1550 | W32: 1750 | X32: 2150
C33: Large Bandwidth | F33: =F32 -> 1 | G33: =G32 -> 1 | H33: =H32 -> 1 | K33: Large Bandwidth | N33: 400 | O33: 400 | P33: 400 | S33: Large Bandwidth | V33: 400 | W33: 400 | X33: 800
C34: Small Bandwidth | F34: =F33 -> 1 | G34: =G33 -> 1 | H34: =H33 -> 1 | K34: Small Bandwidth | N34: 100 | O34: 50 | P34: 50 | S34: Small Bandwidth | V34: 50 | W34: 50 | X34: 50
C36: # of External connections | F36: Ignored | K36: # of External connections | N36: Ignored | S36: # of External connections | V36: Ignored
C37: External Bandwidth (Gbps) | F37: Ignored | G37: Ignored | H37: Ignored | K37: External Bandwidth (Gbps) | N37: Ignored | O37: Ignored | P37: Ignored | S37: External Bandwidth (Gbps) | V37: Ignored | W37: Ignored | X37: Ignored
